Package: BBCAnalyzer Version: 1.37.0 Command: rm -rf BBCAnalyzer.buildbin-libdir && mkdir BBCAnalyzer.buildbin-libdir && /Users/biocbuild/BBS/utils/build-universal.sh BBCAnalyzer_1.37.0.tar.gz /Library/Frameworks/R.framework/Resources/bin/R BBCAnalyzer.buildbin-libdir StartedAt: 2025-02-05 00:29:25 -0500 (Wed, 05 Feb 2025) EndedAt: 2025-02-05 00:30:25 -0500 (Wed, 05 Feb 2025) EllapsedTime: 60.3 seconds RetCode: 0 Status: OK PackageFile: BBCAnalyzer_1.37.0.tgz PackageFileSize: 2.059 MiB