Package: BBCAnalyzer Version: 1.37.0 Command: /Library/Frameworks/R.framework/Resources/bin/R CMD check --install=check:BBCAnalyzer.install-out.txt --library=/Library/Frameworks/R.framework/Resources/library --no-vignettes --timings BBCAnalyzer_1.37.0.tar.gz StartedAt: 2025-02-04 19:02:39 -0500 (Tue, 04 Feb 2025) EndedAt: 2025-02-04 19:07:43 -0500 (Tue, 04 Feb 2025) EllapsedTime: 304.5 seconds RetCode: 0 Status: OK CheckDir: BBCAnalyzer.Rcheck Warnings: 0