Package: BBCAnalyzer Version: 1.37.0 Command: /Library/Frameworks/R.framework/Resources/bin/R CMD INSTALL BBCAnalyzer StartedAt: 2025-02-04 15:20:28 -0500 (Tue, 04 Feb 2025) EndedAt: 2025-02-04 15:21:25 -0500 (Tue, 04 Feb 2025) EllapsedTime: 57.1 seconds RetCode: 0 Status: OK