Package: BBCAnalyzer Version: 1.37.0 Command: /home/biocbuild/bbs-3.21-bioc/R/bin/R CMD build --keep-empty-dirs --no-resave-data BBCAnalyzer StartedAt: 2025-02-09 16:15:47 -0500 (Sun, 09 Feb 2025) EndedAt: 2025-02-09 16:22:14 -0500 (Sun, 09 Feb 2025) EllapsedTime: 387.3 seconds RetCode: 0 Status: OK PackageFile: BBCAnalyzer_1.37.0.tar.gz PackageFileSize: 2.202 MiB