Package: BBCAnalyzer Version: 1.37.0 Command: /home/biocbuild/bbs-3.21-bioc/R/bin/R CMD INSTALL BBCAnalyzer StartedAt: 2025-02-09 15:40:17 -0500 (Sun, 09 Feb 2025) EndedAt: 2025-02-09 15:40:59 -0500 (Sun, 09 Feb 2025) EllapsedTime: 42.6 seconds RetCode: 0 Status: OK