Package: BBCAnalyzer Version: 1.37.0 Command: chmod a+r BBCAnalyzer -R && E:\biocbuild\bbs-3.21-bioc\R\bin\R.exe CMD build --keep-empty-dirs --no-resave-data BBCAnalyzer StartedAt: 2025-02-09 17:21:36 -0500 (Sun, 09 Feb 2025) EndedAt: 2025-02-09 17:32:09 -0500 (Sun, 09 Feb 2025) EllapsedTime: 632.7 seconds RetCode: 0 Status: OK PackageFile: BBCAnalyzer_1.37.0.tar.gz PackageFileSize: 2.084 MiB