Package: BCRANK Version: 1.69.0 Command: rm -rf BCRANK.buildbin-libdir && mkdir BCRANK.buildbin-libdir && /Users/biocbuild/BBS/utils/build-universal.sh BCRANK_1.69.0.tar.gz /Library/Frameworks/R.framework/Resources/bin/R BCRANK.buildbin-libdir StartedAt: 2025-02-09 22:06:45 -0500 (Sun, 09 Feb 2025) EndedAt: 2025-02-09 22:06:52 -0500 (Sun, 09 Feb 2025) EllapsedTime: 7.2 seconds RetCode: 0 Status: OK PackageFile: BCRANK_1.69.0.tgz PackageFileSize: 2.462 MiB