Package: BCRANK Version: 1.69.0 Command: /Library/Frameworks/R.framework/Resources/bin/R CMD INSTALL BCRANK StartedAt: 2025-02-12 15:04:07 -0500 (Wed, 12 Feb 2025) EndedAt: 2025-02-12 15:04:12 -0500 (Wed, 12 Feb 2025) EllapsedTime: 4.9 seconds RetCode: 0 Status: OK