Package: BCRANK Version: 1.69.0 Command: rm -rf BCRANK.buildbin-libdir && mkdir BCRANK.buildbin-libdir && /Users/biocbuild/BBS/utils/build-universal.sh BCRANK_1.69.0.tar.gz /Library/Frameworks/R.framework/Resources/bin/R BCRANK.buildbin-libdir StartedAt: 2025-02-05 00:29:28 -0500 (Wed, 05 Feb 2025) EndedAt: 2025-02-05 00:29:49 -0500 (Wed, 05 Feb 2025) EllapsedTime: 20.9 seconds RetCode: 0 Status: OK PackageFile: BCRANK_1.69.0.tgz PackageFileSize: 2.46 MiB