Package: BCRANK Version: 1.69.0 Command: /Library/Frameworks/R.framework/Resources/bin/R CMD build --keep-empty-dirs --no-resave-data BCRANK StartedAt: 2025-02-04 15:56:25 -0500 (Tue, 04 Feb 2025) EndedAt: 2025-02-04 15:56:51 -0500 (Tue, 04 Feb 2025) EllapsedTime: 26.2 seconds RetCode: 0 Status: OK PackageFile: BCRANK_1.69.0.tar.gz PackageFileSize: 2.902 MiB