Package: BCRANK Version: 1.69.0 Command: /Library/Frameworks/R.framework/Resources/bin/R CMD check --install=check:BCRANK.install-out.txt --library=/Library/Frameworks/R.framework/Resources/library --no-vignettes --timings BCRANK_1.69.0.tar.gz StartedAt: 2025-02-04 19:02:42 -0500 (Tue, 04 Feb 2025) EndedAt: 2025-02-04 19:04:09 -0500 (Tue, 04 Feb 2025) EllapsedTime: 86.9 seconds RetCode: 0 Status: OK CheckDir: BCRANK.Rcheck Warnings: 0