Package: BCRANK Version: 1.69.0 Command: rm -rf BCRANK.buildbin-libdir && mkdir BCRANK.buildbin-libdir && E:\biocbuild\bbs-3.21-bioc\R\bin\R.exe CMD INSTALL --build --library=BCRANK.buildbin-libdir BCRANK_1.69.0.tar.gz StartedAt: 2025-02-10 07:16:09 -0500 (Mon, 10 Feb 2025) EndedAt: 2025-02-10 07:16:44 -0500 (Mon, 10 Feb 2025) EllapsedTime: 34.3 seconds RetCode: 0 Status: OK PackageFile: BCRANK_1.69.0.zip PackageFileSize: 2.285 MiB