Package: BCRANK Version: 1.69.0 Command: chmod a+r BCRANK -R && E:\biocbuild\bbs-3.21-bioc\R\bin\R.exe CMD build --keep-empty-dirs --no-resave-data BCRANK StartedAt: 2025-02-04 17:19:01 -0500 (Tue, 04 Feb 2025) EndedAt: 2025-02-04 17:19:40 -0500 (Tue, 04 Feb 2025) EllapsedTime: 38.7 seconds RetCode: 0 Status: OK PackageFile: BCRANK_1.69.0.tar.gz PackageFileSize: 2.763 MiB