Package: BCRANK Version: 1.69.0 Command: E:\biocbuild\bbs-3.21-bioc\R\bin\R.exe CMD check --no-multiarch --install=check:BCRANK.install-out.txt --library=E:\biocbuild\bbs-3.21-bioc\R\library --no-vignettes --timings BCRANK_1.69.0.tar.gz StartedAt: 2025-02-09 22:50:18 -0500 (Sun, 09 Feb 2025) EndedAt: 2025-02-09 22:51:52 -0500 (Sun, 09 Feb 2025) EllapsedTime: 93.6 seconds RetCode: 0 Status: OK CheckDir: BCRANK.Rcheck Warnings: 0