Package: BEAT Version: 1.45.0 Command: /Library/Frameworks/R.framework/Resources/bin/R CMD check --install=check:BEAT.install-out.txt --library=/Library/Frameworks/R.framework/Resources/library --no-vignettes --timings BEAT_1.45.0.tar.gz StartedAt: 2025-02-09 18:11:37 -0500 (Sun, 09 Feb 2025) EndedAt: 2025-02-09 18:13:34 -0500 (Sun, 09 Feb 2025) EllapsedTime: 116.3 seconds RetCode: 0 Status: OK CheckDir: BEAT.Rcheck Warnings: 0