Package: BEAT Version: 1.45.0 Command: /Library/Frameworks/R.framework/Resources/bin/R CMD INSTALL BEAT StartedAt: 2025-02-09 15:12:27 -0500 (Sun, 09 Feb 2025) EndedAt: 2025-02-09 15:12:42 -0500 (Sun, 09 Feb 2025) EllapsedTime: 14.8 seconds RetCode: 0 Status: OK