Package: BEAT Version: 1.45.0 Command: /home/biocbuild/R/R/bin/R CMD build --keep-empty-dirs --no-resave-data BEAT StartedAt: 2025-01-29 21:05:20 -0000 (Wed, 29 Jan 2025) EndedAt: 2025-01-29 21:07:10 -0000 (Wed, 29 Jan 2025) EllapsedTime: 110.0 seconds RetCode: 0 Status: OK PackageFile: BEAT_1.45.0.tar.gz PackageFileSize: 3.288 MiB