Package: BEAT Version: 1.45.0 Command: /home/biocbuild/R/R/bin/R CMD check --install=check:BEAT.install-out.txt --library=/home/biocbuild/R/R/site-library --no-vignettes --timings BEAT_1.45.0.tar.gz StartedAt: 2025-01-28 03:46:14 -0000 (Tue, 28 Jan 2025) EndedAt: 2025-01-28 03:52:54 -0000 (Tue, 28 Jan 2025) EllapsedTime: 400.5 seconds RetCode: 0 Status: OK CheckDir: BEAT.Rcheck Warnings: 0