Package: BEAT Version: 1.45.0 Command: rm -rf BEAT.buildbin-libdir && mkdir BEAT.buildbin-libdir && /Users/biocbuild/BBS/utils/build-universal.sh BEAT_1.45.0.tar.gz /Library/Frameworks/R.framework/Resources/bin/R BEAT.buildbin-libdir StartedAt: 2025-02-10 00:43:12 -0500 (Mon, 10 Feb 2025) EndedAt: 2025-02-10 00:44:05 -0500 (Mon, 10 Feb 2025) EllapsedTime: 53.4 seconds RetCode: 0 Status: OK PackageFile: BEAT_1.45.0.tgz PackageFileSize: 3.349 MiB