Package: BEAT Version: 1.45.0 Command: /Library/Frameworks/R.framework/Resources/bin/R CMD build --keep-empty-dirs --no-resave-data BEAT StartedAt: 2025-02-09 15:59:12 -0500 (Sun, 09 Feb 2025) EndedAt: 2025-02-09 16:00:43 -0500 (Sun, 09 Feb 2025) EllapsedTime: 91.1 seconds RetCode: 0 Status: OK PackageFile: BEAT_1.45.0.tar.gz PackageFileSize: 3.291 MiB