Package: BEAT Version: 1.45.0 Command: rm -rf BEAT.buildbin-libdir && mkdir BEAT.buildbin-libdir && E:\biocbuild\bbs-3.21-bioc\R\bin\R.exe CMD INSTALL --build --library=BEAT.buildbin-libdir BEAT_1.45.0.tar.gz StartedAt: 2025-02-10 07:16:20 -0500 (Mon, 10 Feb 2025) EndedAt: 2025-02-10 07:17:02 -0500 (Mon, 10 Feb 2025) EllapsedTime: 42.4 seconds RetCode: 0 Status: OK PackageFile: BEAT_1.45.0.zip PackageFileSize: 3.082 MiB