Package: BEAT Version: 1.45.0 Command: chmod a+r BEAT -R && E:\biocbuild\bbs-3.21-bioc\R\bin\R.exe CMD build --keep-empty-dirs --no-resave-data BEAT StartedAt: 2025-02-09 17:22:57 -0500 (Sun, 09 Feb 2025) EndedAt: 2025-02-09 17:24:54 -0500 (Sun, 09 Feb 2025) EllapsedTime: 117.3 seconds RetCode: 0 Status: OK PackageFile: BEAT_1.45.0.tar.gz PackageFileSize: 3.133 MiB