Package: BERT Version: 1.3.6 Maintainer: Yannis Schumann MaintainerEmail: yannis.schumann at desy.de git_url: https://git.bioconductor.org/packages/BERT git_branch: devel git_last_commit: f785e17 git_last_commit_date: 2025-01-29 01:54:20 -0500 (Wed, 29 Jan 2025)