Package: BERT Version: 1.3.6 Command: /Library/Frameworks/R.framework/Resources/bin/R CMD check --install=check:BERT.install-out.txt --library=/Library/Frameworks/R.framework/Resources/library --no-vignettes --timings BERT_1.3.6.tar.gz StartedAt: 2025-02-04 19:04:53 -0500 (Tue, 04 Feb 2025) EndedAt: 2025-02-04 19:06:15 -0500 (Tue, 04 Feb 2025) EllapsedTime: 82.4 seconds RetCode: 0 Status: OK CheckDir: BERT.Rcheck Warnings: 0