Package: BERT Version: 1.3.6 Command: /home/biocbuild/bbs-3.21-bioc/R/bin/R CMD check --install=check:BERT.install-out.txt --library=/home/biocbuild/bbs-3.21-bioc/R/site-library --timings BERT_1.3.6.tar.gz StartedAt: 2025-02-04 20:15:10 -0500 (Tue, 04 Feb 2025) EndedAt: 2025-02-04 20:16:39 -0500 (Tue, 04 Feb 2025) EllapsedTime: 89.1 seconds RetCode: 0 Status: OK CheckDir: BERT.Rcheck Warnings: 0