Package: BERT Version: 1.3.6 Command: chmod a+r BERT -R && E:\biocbuild\bbs-3.21-bioc\R\bin\R.exe CMD build --keep-empty-dirs --no-resave-data BERT StartedAt: 2025-02-04 17:20:31 -0500 (Tue, 04 Feb 2025) EndedAt: 2025-02-04 17:21:53 -0500 (Tue, 04 Feb 2025) EllapsedTime: 81.9 seconds RetCode: 0 Status: OK PackageFile: BERT_1.3.6.tar.gz PackageFileSize: 258.5 KiB