Package: BERT Version: 1.3.6 Command: E:\biocbuild\bbs-3.21-bioc\R\bin\R.exe CMD INSTALL BERT StartedAt: 2025-02-09 16:10:41 -0500 (Sun, 09 Feb 2025) EndedAt: 2025-02-09 16:10:50 -0500 (Sun, 09 Feb 2025) EllapsedTime: 9.2 seconds RetCode: 0 Status: OK