Package: BG2 Version: 1.7.0 Command: /Library/Frameworks/R.framework/Resources/bin/R CMD INSTALL BG2 StartedAt: 2025-02-09 15:23:56 -0500 (Sun, 09 Feb 2025) EndedAt: 2025-02-09 15:23:57 -0500 (Sun, 09 Feb 2025) EllapsedTime: 1.2 seconds RetCode: 0 Status: OK