Package: BG2 Version: 1.7.0 Command: /home/biocbuild/R/R/bin/R CMD build --keep-empty-dirs --no-resave-data BG2 StartedAt: 2025-01-29 21:07:10 -0000 (Wed, 29 Jan 2025) EndedAt: 2025-01-29 21:13:11 -0000 (Wed, 29 Jan 2025) EllapsedTime: 361.1 seconds RetCode: 0 Status: OK PackageFile: BG2_1.7.0.tar.gz PackageFileSize: 1.155 MiB