Package: BG2 Version: 1.7.0 Command: /home/biocbuild/R/R/bin/R CMD check --install=check:BG2.install-out.txt --library=/home/biocbuild/R/R/site-library --no-vignettes --timings BG2_1.7.0.tar.gz StartedAt: 2025-01-28 03:48:21 -0000 (Tue, 28 Jan 2025) EndedAt: 2025-01-28 03:54:13 -0000 (Tue, 28 Jan 2025) EllapsedTime: 352.5 seconds RetCode: 0 Status: OK CheckDir: BG2.Rcheck Warnings: 0