Package: BG2 Version: 1.7.0 Command: /home/biocbuild/R/R/bin/R CMD INSTALL BG2 StartedAt: 2025-01-29 20:25:26 -0000 (Wed, 29 Jan 2025) EndedAt: 2025-01-29 20:25:30 -0000 (Wed, 29 Jan 2025) EllapsedTime: 4.0 seconds RetCode: 0 Status: OK