Package: BG2 Version: 1.7.0 Command: rm -rf BG2.buildbin-libdir && mkdir BG2.buildbin-libdir && /Users/biocbuild/BBS/utils/build-universal.sh BG2_1.7.0.tar.gz /Library/Frameworks/R.framework/Resources/bin/R BG2.buildbin-libdir StartedAt: 2025-02-04 00:24:04 -0500 (Tue, 04 Feb 2025) EndedAt: 2025-02-04 00:24:11 -0500 (Tue, 04 Feb 2025) EllapsedTime: 6.9 seconds RetCode: 0 Status: OK PackageFile: BG2_1.7.0.tgz PackageFileSize: 1.165 MiB