Package: BG2 Version: 1.7.0 Command: /home/biocbuild/bbs-3.21-bioc/R/bin/R CMD build --keep-empty-dirs --no-resave-data BG2 StartedAt: 2025-02-03 16:26:53 -0500 (Mon, 03 Feb 2025) EndedAt: 2025-02-03 16:36:24 -0500 (Mon, 03 Feb 2025) EllapsedTime: 570.5 seconds RetCode: 0 Status: OK PackageFile: BG2_1.7.0.tar.gz PackageFileSize: 1.131 MiB