Package: BG2 Version: 1.7.0 Command: /home/biocbuild/bbs-3.21-bioc/R/bin/R CMD INSTALL BG2 StartedAt: 2025-02-03 15:19:06 -0500 (Mon, 03 Feb 2025) EndedAt: 2025-02-03 15:19:17 -0500 (Mon, 03 Feb 2025) EllapsedTime: 10.7 seconds RetCode: 0 Status: OK