Package: BOBaFIT Version: 1.11.0 Command: /Library/Frameworks/R.framework/Resources/bin/R CMD check --install=check:BOBaFIT.install-out.txt --library=/Library/Frameworks/R.framework/Resources/library --no-vignettes --timings BOBaFIT_1.11.0.tar.gz StartedAt: 2025-02-03 19:19:20 -0500 (Mon, 03 Feb 2025) EndedAt: 2025-02-03 19:27:19 -0500 (Mon, 03 Feb 2025) EllapsedTime: 479.3 seconds RetCode: 0 Status: WARNINGS CheckDir: BOBaFIT.Rcheck Warnings: 1