Package: BOBaFIT Version: 1.11.0 Command: /Library/Frameworks/R.framework/Resources/bin/R CMD INSTALL BOBaFIT StartedAt: 2025-02-03 15:33:50 -0500 (Mon, 03 Feb 2025) EndedAt: 2025-02-03 15:34:58 -0500 (Mon, 03 Feb 2025) EllapsedTime: 68.4 seconds RetCode: 0 Status: OK