Package: BOBaFIT Version: 1.11.0 Command: /home/biocbuild/bbs-3.21-bioc/R/bin/R CMD build --keep-empty-dirs --no-resave-data BOBaFIT StartedAt: 2025-02-04 16:24:49 -0500 (Tue, 04 Feb 2025) EndedAt: 2025-02-04 16:26:26 -0500 (Tue, 04 Feb 2025) EllapsedTime: 97.1 seconds RetCode: 0 Status: OK PackageFile: BOBaFIT_1.11.0.tar.gz PackageFileSize: 2.498 MiB