Package: BOBaFIT Version: 1.11.0 Command: E:\biocbuild\bbs-3.21-bioc\R\bin\R.exe CMD check --no-multiarch --install=check:BOBaFIT.install-out.txt --library=E:\biocbuild\bbs-3.21-bioc\R\library --no-vignettes --timings BOBaFIT_1.11.0.tar.gz StartedAt: 2025-02-09 23:11:08 -0500 (Sun, 09 Feb 2025) EndedAt: 2025-02-09 23:19:38 -0500 (Sun, 09 Feb 2025) EllapsedTime: 509.7 seconds RetCode: 0 Status: WARNINGS CheckDir: BOBaFIT.Rcheck Warnings: 1