Package: BSgenome Version: 1.75.1 Command: rm -rf BSgenome.buildbin-libdir && mkdir BSgenome.buildbin-libdir && /Users/biocbuild/BBS/utils/build-universal.sh BSgenome_1.75.1.tar.gz /Library/Frameworks/R.framework/Resources/bin/R BSgenome.buildbin-libdir StartedAt: 2025-02-09 22:07:59 -0500 (Sun, 09 Feb 2025) EndedAt: 2025-02-09 22:08:17 -0500 (Sun, 09 Feb 2025) EllapsedTime: 17.4 seconds RetCode: 0 Status: OK PackageFile: BSgenome_1.75.1.tgz PackageFileSize: 6.97 MiB