Package: BSgenome Version: 1.75.1 Command: /Library/Frameworks/R.framework/Resources/bin/R CMD check --install=check:BSgenome.install-out.txt --library=/Library/Frameworks/R.framework/Resources/library --no-vignettes --timings BSgenome_1.75.1.tar.gz StartedAt: 2025-02-12 18:21:45 -0500 (Wed, 12 Feb 2025) EndedAt: 2025-02-12 18:24:15 -0500 (Wed, 12 Feb 2025) EllapsedTime: 149.8 seconds RetCode: 0 Status: WARNINGS CheckDir: BSgenome.Rcheck Warnings: 1