Package: BSgenome Version: 1.75.1 Command: /home/biocbuild/R/R/bin/R CMD check --install=check:BSgenome.install-out.txt --library=/home/biocbuild/R/R/site-library --no-vignettes --timings BSgenome_1.75.1.tar.gz StartedAt: 2025-01-28 08:47:41 -0000 (Tue, 28 Jan 2025) EndedAt: 2025-01-28 08:55:18 -0000 (Tue, 28 Jan 2025) EllapsedTime: 456.4 seconds RetCode: 0 Status: WARNINGS CheckDir: BSgenome.Rcheck Warnings: 1