Package: BSgenome Version: 1.75.1 Command: /Library/Frameworks/R.framework/Resources/bin/R CMD check --install=check:BSgenome.install-out.txt --library=/Library/Frameworks/R.framework/Resources/library --no-vignettes --timings BSgenome_1.75.1.tar.gz StartedAt: 2025-02-09 19:29:50 -0500 (Sun, 09 Feb 2025) EndedAt: 2025-02-09 19:37:18 -0500 (Sun, 09 Feb 2025) EllapsedTime: 448.3 seconds RetCode: 0 Status: WARNINGS CheckDir: BSgenome.Rcheck Warnings: 1