Package: BSgenome Version: 1.75.1 Command: /Library/Frameworks/R.framework/Resources/bin/R CMD INSTALL BSgenome StartedAt: 2025-02-09 15:18:18 -0500 (Sun, 09 Feb 2025) EndedAt: 2025-02-09 15:19:13 -0500 (Sun, 09 Feb 2025) EllapsedTime: 55.2 seconds RetCode: 0 Status: OK