Package: BSgenome Version: 1.75.1 Command: /home/biocbuild/bbs-3.21-bioc/R/bin/R CMD build --keep-empty-dirs --no-resave-data BSgenome StartedAt: 2025-02-09 16:28:39 -0500 (Sun, 09 Feb 2025) EndedAt: 2025-02-09 16:30:16 -0500 (Sun, 09 Feb 2025) EllapsedTime: 97.1 seconds RetCode: 0 Status: OK PackageFile: BSgenome_1.75.1.tar.gz PackageFileSize: 5.628 MiB