Package: BSgenome Version: 1.75.1 Command: /home/biocbuild/bbs-3.21-bioc/R/bin/R CMD INSTALL BSgenome StartedAt: 2025-02-09 15:26:42 -0500 (Sun, 09 Feb 2025) EndedAt: 2025-02-09 15:27:22 -0500 (Sun, 09 Feb 2025) EllapsedTime: 40.3 seconds RetCode: 0 Status: OK