Package: BSgenome Version: 1.75.1 Command: rm -rf BSgenome.buildbin-libdir && mkdir BSgenome.buildbin-libdir && E:\biocbuild\bbs-3.21-bioc\R\bin\R.exe CMD INSTALL --build --library=BSgenome.buildbin-libdir BSgenome_1.75.1.tar.gz StartedAt: 2025-02-10 07:21:11 -0500 (Mon, 10 Feb 2025) EndedAt: 2025-02-10 07:23:02 -0500 (Mon, 10 Feb 2025) EllapsedTime: 111.3 seconds RetCode: 0 Status: OK PackageFile: BSgenome_1.75.1.zip PackageFileSize: 6.796 MiB