Package: BSgenome Version: 1.75.1 Command: E:\biocbuild\bbs-3.21-bioc\R\bin\R.exe CMD INSTALL BSgenome StartedAt: 2025-02-09 16:33:09 -0500 (Sun, 09 Feb 2025) EndedAt: 2025-02-09 16:34:38 -0500 (Sun, 09 Feb 2025) EllapsedTime: 89.0 seconds RetCode: 0 Status: OK