Package: BUMHMM Version: 1.31.0 Command: /Library/Frameworks/R.framework/Resources/bin/R CMD build --keep-empty-dirs --no-resave-data BUMHMM StartedAt: 2025-02-09 15:45:30 -0500 (Sun, 09 Feb 2025) EndedAt: 2025-02-09 15:45:47 -0500 (Sun, 09 Feb 2025) EllapsedTime: 17.2 seconds RetCode: 0 Status: OK PackageFile: BUMHMM_1.31.0.tar.gz PackageFileSize: 712.6 KiB