Package: BUMHMM Version: 1.31.0 Command: /home/biocbuild/R/R/bin/R CMD build --keep-empty-dirs --no-resave-data BUMHMM StartedAt: 2025-01-28 21:29:12 -0000 (Tue, 28 Jan 2025) EndedAt: 2025-01-28 21:30:06 -0000 (Tue, 28 Jan 2025) EllapsedTime: 54.0 seconds RetCode: 0 Status: OK PackageFile: BUMHMM_1.31.0.tar.gz PackageFileSize: 704.8 KiB