Package: BUMHMM Version: 1.31.0 Command: /home/biocbuild/R/R/bin/R CMD INSTALL BUMHMM StartedAt: 2025-01-29 20:13:44 -0000 (Wed, 29 Jan 2025) EndedAt: 2025-01-29 20:14:20 -0000 (Wed, 29 Jan 2025) EllapsedTime: 35.7 seconds RetCode: 0 Status: OK